BEGIN:VCALENDAR
VERSION:2.0
PRODID:-//LabVantage - ECPv6.10.1.1//NONSGML v1.0//EN
CALSCALE:GREGORIAN
METHOD:PUBLISH
X-WR-CALNAME:LabVantage
X-ORIGINAL-URL:https://www.labvantage.com
X-WR-CALDESC:Events for LabVantage
REFRESH-INTERVAL;VALUE=DURATION:PT1H
X-Robots-Tag:noindex
X-PUBLISHED-TTL:PT1H
BEGIN:VTIMEZONE
TZID:America/New_York
BEGIN:DAYLIGHT
TZOFFSETFROM:-0500
TZOFFSETTO:-0400
TZNAME:EDT
DTSTART:20250309T070000
END:DAYLIGHT
BEGIN:STANDARD
TZOFFSETFROM:-0400
TZOFFSETTO:-0500
TZNAME:EST
DTSTART:20251102T060000
END:STANDARD
END:VTIMEZONE
BEGIN:VEVENT
DTSTART;VALUE=DATE:20251126
DTEND;VALUE=DATE:20251128
DTSTAMP:20260421T031329
CREATED:20250905T045845Z
LAST-MODIFIED:20250905T053031Z
UID:10000044-1764115200-1764287999@www.labvantage.com
SUMMARY:Congrès Polepharma Industrie du Futur
DESCRIPTION:Location: L’Illiade\, Chartres\, France \nRévéler le potentiel de Pharma 4.0 grâce à un écosystème pharmaceutique digitalisé \nSpeaker: Julien Pollion\, Account Manager at LabVantage Solutions France \nPlongez au cœur de la révolution Pharma 4.0\, où automatisation\, connectivité et intelligence des données transforment la production pharmaceutique en un processus plus rapide\, sûr et innovant. \nFace aux exigences réglementaires croissantes en maturité digitale\, intégrité des données et traçabilité tout au long du cycle de vie du médicament\, découvrez comment un LIMS moderne devient la colonne vertébrale de votre écosystème digital\, garantissant conformité et performance. \nApprenez à intégrer ELN\, SDMS\, LES\, ERP et IoT pour fluidifier les échanges entre systèmes et booster l’agilité opérationnelle de vos équipes. \nEnfin\, explorez le potentiel inédit de l’intelligence artificielle agentique et de la recherche sémantique pour exploiter pleinement vos données et les transformer en moteur d’innovation proactive. \nNe manquez surtout pas cette présentation essentielle pour maîtriser pleinement Pharma 4.0!
URL:https://www.labvantage.com/events-and-webinars/congres-polepharma-industrie-du-futur/
CATEGORIES:Conference/Tradeshow
END:VEVENT
BEGIN:VEVENT
DTSTART;VALUE=DATE:20251029
DTEND;VALUE=DATE:20251031
DTSTAMP:20260421T031329
CREATED:20250318T125940Z
LAST-MODIFIED:20250902T072244Z
UID:10000035-1761696000-1761868799@www.labvantage.com
SUMMARY:Lab Innovation
DESCRIPTION:Birmingham\, UK
URL:https://www.labvantage.com/events-and-webinars/lab-innovation/
CATEGORIES:Conference/Tradeshow
END:VEVENT
BEGIN:VEVENT
DTSTART;VALUE=DATE:20251028
DTEND;VALUE=DATE:20251030
DTSTAMP:20260421T031329
CREATED:20250318T125646Z
LAST-MODIFIED:20250902T072321Z
UID:10000034-1761609600-1761782399@www.labvantage.com
SUMMARY:LIMS Forum
DESCRIPTION:Mainz\, Germany
URL:https://www.labvantage.com/events-and-webinars/lims-forum/
CATEGORIES:Conference/Tradeshow
END:VEVENT
BEGIN:VEVENT
DTSTART;VALUE=DATE:20251006
DTEND;VALUE=DATE:20251009
DTSTAMP:20260421T031329
CREATED:20250814T054149Z
LAST-MODIFIED:20250820T105351Z
UID:10000043-1759708800-1759967999@www.labvantage.com
SUMMARY:BiotechX Europe 2025
DESCRIPTION:Basel\, Switzerland \nEurope’s Largest Biotechnology Congress – Bringing together pharma\, academia\, and clinicians to foster meaningful collaborations and innovation. \nWant to meet us at the show?\nWe’re now booking appointments with attendees and industry professionals. Complete the form below to: \n\nRequest a conference ticket\nSchedule a 1:1 meeting with our experts\nGet early access to our upcoming announcements\n\nWhere to Find Us \nExhibitor Booth: #145 \nSpeaking Sessions – Track: AI in Drug Discovery & Development \nOctober 7 | 16:50\nPanel Discussion: How To Make Biotech Data Actionable Through AI and Interoperable Intelligence\nModerator: Verena Mertes\, Director BioTech360\, LabVantage Solutions \nOctober 7 | 17:10\nPresentation: Unifying Scientific Intelligence – Making Life Sciences Data Interoperable\, Contextualized & AI-Ready\nPresenter: Verena Mertes\, Director BioTech360\, LabVantage Solutions
URL:https://www.labvantage.com/events-and-webinars/biotechx-europe-2025/
CATEGORIES:Conference/Tradeshow
END:VEVENT
BEGIN:VEVENT
DTSTART;VALUE=DATE:20250617
DTEND;VALUE=DATE:20250629
DTSTAMP:20260421T031329
CREATED:20250318T125208Z
LAST-MODIFIED:20250902T072554Z
UID:10000033-1750118400-1751155199@www.labvantage.com
SUMMARY:Lab Italia
DESCRIPTION:Milan\, Italy
URL:https://www.labvantage.com/events-and-webinars/lab-italia/
CATEGORIES:Conference/Tradeshow
END:VEVENT
BEGIN:VEVENT
DTSTART;VALUE=DATE:20250526
DTEND;VALUE=DATE:20250531
DTSTAMP:20260421T031329
CREATED:20250318T124859Z
LAST-MODIFIED:20250902T072631Z
UID:10000032-1748217600-1748649599@www.labvantage.com
SUMMARY:EAFS 2025
DESCRIPTION:Dublin\, Ireland
URL:https://www.labvantage.com/events-and-webinars/eafs-2025/
CATEGORIES:Conference/Tradeshow
END:VEVENT
END:VCALENDAR